BEGIN:VCALENDAR
VERSION:2.0
PRODID:-//Cubanisimo Vineyards - ECPv6.15.20//NONSGML v1.0//EN
CALSCALE:GREGORIAN
METHOD:PUBLISH
X-WR-CALNAME:Cubanisimo Vineyards
X-ORIGINAL-URL:https://cubanisimovineyards.com
X-WR-CALDESC:Events for Cubanisimo Vineyards
REFRESH-INTERVAL;VALUE=DURATION:PT1H
X-Robots-Tag:noindex
X-PUBLISHED-TTL:PT1H
BEGIN:VTIMEZONE
TZID:America/Los_Angeles
BEGIN:DAYLIGHT
TZOFFSETFROM:-0800
TZOFFSETTO:-0700
TZNAME:PDT
DTSTART:20170312T100000
END:DAYLIGHT
BEGIN:STANDARD
TZOFFSETFROM:-0700
TZOFFSETTO:-0800
TZNAME:PST
DTSTART:20171105T090000
END:STANDARD
BEGIN:DAYLIGHT
TZOFFSETFROM:-0800
TZOFFSETTO:-0700
TZNAME:PDT
DTSTART:20180311T100000
END:DAYLIGHT
BEGIN:STANDARD
TZOFFSETFROM:-0700
TZOFFSETTO:-0800
TZNAME:PST
DTSTART:20181104T090000
END:STANDARD
BEGIN:DAYLIGHT
TZOFFSETFROM:-0800
TZOFFSETTO:-0700
TZNAME:PDT
DTSTART:20190310T100000
END:DAYLIGHT
BEGIN:STANDARD
TZOFFSETFROM:-0700
TZOFFSETTO:-0800
TZNAME:PST
DTSTART:20191103T090000
END:STANDARD
END:VTIMEZONE
BEGIN:VTIMEZONE
TZID:UTC
BEGIN:STANDARD
TZOFFSETFROM:+0000
TZOFFSETTO:+0000
TZNAME:UTC
DTSTART:20170101T000000
END:STANDARD
END:VTIMEZONE
BEGIN:VEVENT
DTSTART;TZID=America/Los_Angeles:20180922T010000
DTEND;TZID=America/Los_Angeles:20180922T163000
DTSTAMP:20260423T014538
CREATED:20180905T182719Z
LAST-MODIFIED:20180905T182719Z
UID:1268-1537578000-1537633800@cubanisimovineyards.com
SUMMARY:Patrick Anderson Live
DESCRIPTION:Join us from 1-4:30 for live music\, wine tasting and dancing!
URL:https://cubanisimovineyards.com/event/patrick-anderson-live-2/
CATEGORIES:Music
END:VEVENT
BEGIN:VEVENT
DTSTART;TZID=America/Los_Angeles:20180919T180000
DTEND;TZID=America/Los_Angeles:20180919T200000
DTSTAMP:20260423T014538
CREATED:20180830T233632Z
LAST-MODIFIED:20180910T163351Z
UID:1225-1537380000-1537387200@cubanisimovineyards.com
SUMMARY:Wine & Paint
DESCRIPTION:Join us for an evening of wining and painting with Dena Lynn! We are going to paint this super fun\, colorful palm tree! Your $40 ticket includes all painting supplies you need to complete the class\, as well as a $10 voucher toward any wine purchases. Reserve your spot here\n**be sure to check “Event Ticket ONLY – NO SHIPPING upon checkout 
URL:https://cubanisimovineyards.com/event/wine-paint/
CATEGORIES:Special Event
END:VEVENT
BEGIN:VEVENT
DTSTART;TZID=America/Los_Angeles:20180825T203000
DTEND;TZID=America/Los_Angeles:20180825T223000
DTSTAMP:20260423T014538
CREATED:20180810T042744Z
LAST-MODIFIED:20180827T215523Z
UID:950-1535229000-1535236200@cubanisimovineyards.com
SUMMARY:Movie Night Featuring COCO
DESCRIPTION:Join us for a free night of fun as we feature COCO in the vineyard! We will begin the movie at sunset. There will be popcorn\, candy\, and wine (of course) available for purchase. Bring the kids\, your friends\, your significant other\, the more the merrier…see you there!
URL:https://cubanisimovineyards.com/event/movie-night-featuring-coco/
END:VEVENT
BEGIN:VEVENT
DTSTART;TZID=UTC:20180819T130000
DTEND;TZID=UTC:20180819T160000
DTSTAMP:20260423T014538
CREATED:20180810T062927Z
LAST-MODIFIED:20180810T062927Z
UID:966-1534683600-1534694400@cubanisimovineyards.com
SUMMARY:Patrick Anderson Live!
DESCRIPTION:Join us for an afternoon of live music from Patrick Anderson. Free admission\, just come out and enjoy a little bit of wine…even bring a picnic if you so desire!
URL:https://cubanisimovineyards.com/event/patrick-anderson-live/
CATEGORIES:Music
END:VEVENT
BEGIN:VEVENT
DTSTART;TZID=UTC:20180818T170000
DTEND;TZID=UTC:20180818T190000
DTSTAMP:20260423T014538
CREATED:20180810T041921Z
LAST-MODIFIED:20180810T043113Z
UID:946-1534611600-1534618800@cubanisimovineyards.com
SUMMARY:Salsa Saturday
DESCRIPTION:Join us for Salsa Lessons every third Saturday of the month! For just $20 you get appetizers\, wine and the lesson. Now that’s a deal you can’t beat! All skill levels are welcomed…the more you join us\, the better you’ll be. Purchase your ticket online!
URL:https://cubanisimovineyards.com/event/salsa-saturday/
END:VEVENT
END:VCALENDAR