BEGIN:VCALENDAR
VERSION:2.0
PRODID:-//Cubanisimo Vineyards - ECPv6.15.20//NONSGML v1.0//EN
CALSCALE:GREGORIAN
METHOD:PUBLISH
X-WR-CALNAME:Cubanisimo Vineyards
X-ORIGINAL-URL:https://cubanisimovineyards.com
X-WR-CALDESC:Events for Cubanisimo Vineyards
REFRESH-INTERVAL;VALUE=DURATION:PT1H
X-Robots-Tag:noindex
X-PUBLISHED-TTL:PT1H
BEGIN:VTIMEZONE
TZID:America/Los_Angeles
BEGIN:DAYLIGHT
TZOFFSETFROM:-0800
TZOFFSETTO:-0700
TZNAME:PDT
DTSTART:20190310T100000
END:DAYLIGHT
BEGIN:STANDARD
TZOFFSETFROM:-0700
TZOFFSETTO:-0800
TZNAME:PST
DTSTART:20191103T090000
END:STANDARD
BEGIN:DAYLIGHT
TZOFFSETFROM:-0800
TZOFFSETTO:-0700
TZNAME:PDT
DTSTART:20200308T100000
END:DAYLIGHT
BEGIN:STANDARD
TZOFFSETFROM:-0700
TZOFFSETTO:-0800
TZNAME:PST
DTSTART:20201101T090000
END:STANDARD
BEGIN:DAYLIGHT
TZOFFSETFROM:-0800
TZOFFSETTO:-0700
TZNAME:PDT
DTSTART:20210314T100000
END:DAYLIGHT
BEGIN:STANDARD
TZOFFSETFROM:-0700
TZOFFSETTO:-0800
TZNAME:PST
DTSTART:20211107T090000
END:STANDARD
BEGIN:DAYLIGHT
TZOFFSETFROM:-0800
TZOFFSETTO:-0700
TZNAME:PDT
DTSTART:20220313T100000
END:DAYLIGHT
BEGIN:STANDARD
TZOFFSETFROM:-0700
TZOFFSETTO:-0800
TZNAME:PST
DTSTART:20221106T090000
END:STANDARD
BEGIN:DAYLIGHT
TZOFFSETFROM:-0800
TZOFFSETTO:-0700
TZNAME:PDT
DTSTART:20230312T100000
END:DAYLIGHT
BEGIN:STANDARD
TZOFFSETFROM:-0700
TZOFFSETTO:-0800
TZNAME:PST
DTSTART:20231105T090000
END:STANDARD
BEGIN:DAYLIGHT
TZOFFSETFROM:-0800
TZOFFSETTO:-0700
TZNAME:PDT
DTSTART:20240310T100000
END:DAYLIGHT
BEGIN:STANDARD
TZOFFSETFROM:-0700
TZOFFSETTO:-0800
TZNAME:PST
DTSTART:20241103T090000
END:STANDARD
BEGIN:DAYLIGHT
TZOFFSETFROM:-0800
TZOFFSETTO:-0700
TZNAME:PDT
DTSTART:20250309T100000
END:DAYLIGHT
BEGIN:STANDARD
TZOFFSETFROM:-0700
TZOFFSETTO:-0800
TZNAME:PST
DTSTART:20251102T090000
END:STANDARD
BEGIN:DAYLIGHT
TZOFFSETFROM:-0800
TZOFFSETTO:-0700
TZNAME:PDT
DTSTART:20260308T100000
END:DAYLIGHT
BEGIN:STANDARD
TZOFFSETFROM:-0700
TZOFFSETTO:-0800
TZNAME:PST
DTSTART:20261101T090000
END:STANDARD
END:VTIMEZONE
BEGIN:VTIMEZONE
TZID:America/Denver
BEGIN:DAYLIGHT
TZOFFSETFROM:-0700
TZOFFSETTO:-0600
TZNAME:MDT
DTSTART:20250309T090000
END:DAYLIGHT
BEGIN:STANDARD
TZOFFSETFROM:-0600
TZOFFSETTO:-0700
TZNAME:MST
DTSTART:20251102T080000
END:STANDARD
BEGIN:DAYLIGHT
TZOFFSETFROM:-0700
TZOFFSETTO:-0600
TZNAME:MDT
DTSTART:20260308T090000
END:DAYLIGHT
BEGIN:STANDARD
TZOFFSETFROM:-0600
TZOFFSETTO:-0700
TZNAME:MST
DTSTART:20261101T080000
END:STANDARD
BEGIN:DAYLIGHT
TZOFFSETFROM:-0700
TZOFFSETTO:-0600
TZNAME:MDT
DTSTART:20270314T090000
END:DAYLIGHT
BEGIN:STANDARD
TZOFFSETFROM:-0600
TZOFFSETTO:-0700
TZNAME:MST
DTSTART:20271107T080000
END:STANDARD
END:VTIMEZONE
BEGIN:VEVENT
DTSTART;TZID=America/Los_Angeles:20200523T120000
DTEND;TZID=America/Los_Angeles:20200525T180000
DTSTAMP:20260425T100226
CREATED:20200224T203718Z
LAST-MODIFIED:20200518T170047Z
UID:1940-1590235200-1590429600@cubanisimovineyards.com
SUMMARY:CANCELLED - Cuban Style Memorial Day Weekend
DESCRIPTION:It is with the saddest hearts that we have to write this to inform you that our favorite event of the year\, Memorial Day Weekend has been cancelled due to Covid-19. We understand that a lot of you cancel all of you plans\, call out of work\, and skip family vacations to attend this incredible event and we apologize we can’t provide that this year. However\, we have high hopes that we will be able to bring you all back for Labor Day Weekend 2020! We miss you all dearly\, and again\, we apologize this is what it came down to. We hope you understand that this was not an easy decision made by us at Cubanisimo. You are our number one priority which means following the states guidelines for health and safety. \nAs you know\, Memorial Day Weekend is one of our biggest events and it hits hard to not be able to have you all here enjoying wine and dancing the day away. Please consider continuing to support Cubanisimo by enjoying our wine from the comfort of your homes! SHOP HERE \n*Please note: If you have already purchased tickets for Memorial Day Weekend 2020\, you will receive a refund as soon as possible
URL:https://cubanisimovineyards.com/event/cuban-style-memorial-day-weekend/
CATEGORIES:Special Event
END:VEVENT
BEGIN:VEVENT
DTSTART;TZID=America/Los_Angeles:20200528T180000
DTEND;TZID=America/Los_Angeles:20200528T193000
DTSTAMP:20260425T100226
CREATED:20200303T181943Z
LAST-MODIFIED:20200303T183241Z
UID:1953-1590688800-1590694200@cubanisimovineyards.com
SUMMARY:Summer Sign Language Series
DESCRIPTION:We are super excited to be bringing back this event for a second series! Join us for a series of 3 sign language classes with Brent Redpath. From 6 to 6:30 we will be enjoying wine and mingling. This will be followed with an hour sign language class from 6:30-7:30. You will be provided resources and apps after the class to continue your education! The series is $10 for all 3 classes and we do ask that your pre-purchase your ticket. \n  \nYOU MUST PURCHASE YOUR TICKET HERE\n*This ticket is good for all 3 classes\, you do NOT need to purchase a ticket per class\n*Price will increase at the door and walk-ins are not guaranteed to get a seat for the class as we do fill up very fast \nClass Dates:\nMay 28\nJune 18\nJuly 23 \n*Wine will be available for purchase\n*Please no children \nA little bit about Brent:\nBrent Redpath has been actively involved in higher education since 2010. He received his Bachelor’s degree in American Sign Language Studies from Western Oregon University and his Masters of Education degree from Oregon State University under the Student Service Administration program. Brent is currently employed at WOU as the ASL Studies Division Advisor and an Instructor. Brent has a passion for sharing his story of facing challenges and overcoming them and sharing his pride in the Deaf community. As a hobby\, he is a licensed private pilot and an avid skier. He enjoys flying and skiing at Hoodoo or Mt. Bachelor during his leisure time with his wife and two kids. Lastly and most importantly\, Brent loves wine tasting and having a glass of Pinot Noir when he can!
URL:https://cubanisimovineyards.com/event/summer-sign-language-learning-series/
CATEGORIES:Special Event
END:VEVENT
BEGIN:VEVENT
DTSTART;TZID=America/Los_Angeles:20200618T180000
DTEND;TZID=America/Los_Angeles:20200618T193000
DTSTAMP:20260425T100226
CREATED:20200303T183052Z
LAST-MODIFIED:20200303T183202Z
UID:1958-1592503200-1592508600@cubanisimovineyards.com
SUMMARY:Summer Sign Language Series
DESCRIPTION:We are super excited to be bringing back this event for a second series! Join us for a series of 3 sign language classes with Brent Redpath. From 6 to 6:30 we will be enjoying wine and mingling. This will be followed with an hour sign language class from 6:30-7:30. You will be provided resources and apps after the class to continue your education! The series is $10 for all 3 classes and we do ask that your pre-purchase your ticket. \n  \nYOU MUST PURCHASE YOUR TICKET HERE\n*This ticket is good for all 3 classes\, you do NOT need to purchase a ticket per class\n*Price will increase at the door and walk-ins are not guaranteed to get a seat for the class as we do fill up very fast \nClass Dates:\nMay 28\nJune 18\nJuly 23 \n*Wine will be available for purchase\n*Please no children \nA little bit about Brent:\nBrent Redpath has been actively involved in higher education since 2010. He received his Bachelor’s degree in American Sign Language Studies from Western Oregon University and his Masters of Education degree from Oregon State University under the Student Service Administration program. Brent is currently employed at WOU as the ASL Studies Division Advisor and an Instructor. Brent has a passion for sharing his story of facing challenges and overcoming them and sharing his pride in the Deaf community. As a hobby\, he is a licensed private pilot and an avid skier. He enjoys flying and skiing at Hoodoo or Mt. Bachelor during his leisure time with his wife and two kids. Lastly and most importantly\, Brent loves wine tasting and having a glass of Pinot Noir when he can!
URL:https://cubanisimovineyards.com/event/summer-sign-language-series/
CATEGORIES:Special Event
END:VEVENT
BEGIN:VEVENT
DTSTART;TZID=America/Los_Angeles:20200723T180000
DTEND;TZID=America/Los_Angeles:20200723T193000
DTSTAMP:20260425T100226
CREATED:20200303T183330Z
LAST-MODIFIED:20200303T183330Z
UID:1962-1595527200-1595532600@cubanisimovineyards.com
SUMMARY:Summer Sign Language Series
DESCRIPTION:We are super excited to be bringing back this event for a second series! Join us for a series of 3 sign language classes with Brent Redpath. From 6 to 6:30 we will be enjoying wine and mingling. This will be followed with an hour sign language class from 6:30-7:30. You will be provided resources and apps after the class to continue your education! The series is $10 for all 3 classes and we do ask that your pre-purchase your ticket. \n  \nYOU MUST PURCHASE YOUR TICKET HERE\n*This ticket is good for all 3 classes\, you do NOT need to purchase a ticket per class\n*Price will increase at the door and walk-ins are not guaranteed to get a seat for the class as we do fill up very fast \nClass Dates:\nMay 28\nJune 18\nJuly 23 \n*Wine will be available for purchase\n*Please no children \nA little bit about Brent:\nBrent Redpath has been actively involved in higher education since 2010. He received his Bachelor’s degree in American Sign Language Studies from Western Oregon University and his Masters of Education degree from Oregon State University under the Student Service Administration program. Brent is currently employed at WOU as the ASL Studies Division Advisor and an Instructor. Brent has a passion for sharing his story of facing challenges and overcoming them and sharing his pride in the Deaf community. As a hobby\, he is a licensed private pilot and an avid skier. He enjoys flying and skiing at Hoodoo or Mt. Bachelor during his leisure time with his wife and two kids. Lastly and most importantly\, Brent loves wine tasting and having a glass of Pinot Noir when he can!
URL:https://cubanisimovineyards.com/event/summer-sign-language-series-2/
CATEGORIES:Special Event
END:VEVENT
BEGIN:VEVENT
DTSTART;VALUE=DATE:20210906
DTEND;VALUE=DATE:20210907
DTSTAMP:20260425T100226
CREATED:20210816T004124Z
LAST-MODIFIED:20210831T204836Z
UID:2451-1630886400-1630972799@cubanisimovineyards.com
SUMMARY:Labor Day Weekend Celebration~Pura Vida
DESCRIPTION:Come and join us for our Labor Day Celebration from 12-6\, featuring Pura Vida for live music from 1-5 pm! \n  \nGeneral Admission: $20.00 \n\nIncludes Entry & 1 Drink Ticket\n\n  \nAfternoon Package: $30.00 \n\nIncludes Entry\, 2 Drink Tickets\, Raffle Ticket and Cubanisimo Wine Glass\n\n  \nDesignated Driver: $10.00 \n\nIncludes Entry\, 1 Non-Alcoholic Beverage\n\n  \nKids Under 15: $5.00 \n\nIncludes Entry 1 Non-Alcoholic Beverage\n\n  \nWine Club Member and One Guest: Free General Admission \n\nCan Upgrade to Afternoon Package for $5.00\n\n  \nActive and Retired Military: Free General Admission \n  \nFood Brought to you by Cindy Lou’s BBQ
URL:https://cubanisimovineyards.com/event/labor-day-weekend-celebrationpura-vida/
CATEGORIES:Music,Special Event
END:VEVENT
BEGIN:VEVENT
DTSTART;TZID=America/Los_Angeles:20250524T120000
DTEND;TZID=America/Los_Angeles:20250524T180000
DTSTAMP:20260425T100226
CREATED:20190409T224446Z
LAST-MODIFIED:20250524T201732Z
UID:1530-1748088000-1748109600@cubanisimovineyards.com
SUMMARY:Memorial Day Weekend...CUBAN STYLE! 2025
DESCRIPTION:Join us for yet another epic year of Memorial Day Weekend…CUBAN STYLE! We will be having live music\, food from Rudy’s Curbside Bistro\, wine\, salsa lessons\, raffles\, and more from 12-6pm all three days!\n! If you aren’t already a member\, sign up here \nMusic Schedule (1-5pm each day): \nSat:   Dina y Los Runeros\nSun: Son De Cuba\nMon: Pachanga\n\nfood will be Rudy’s Curbside Bistro\nthe event is 12-6 No Outside Alcohol or Food.\nTicket Options (Order HERE)\nWine Club Members (+1 guest) and Active/Retired Military – FREE\nAfternoon Package $35 – Entry into event\, one drink tickets\, salsa lessons\, entry into raffles\, Cubanisimo Vineyards stemless wine glass\nGeneral Admission $30– Entry into event\, salsa lessons\, one drink ticket\nChildren’s Ticket $5 (15 years of age and younger) – Entry into event \n**Food is available for purchase at event from Rudy’s Curbside Bistro
URL:https://cubanisimovineyards.com/event/memorial-day-weekend-cuban-style/
LOCATION:Cubanisimo Vineyards
CATEGORIES:Special Event
END:VEVENT
BEGIN:VEVENT
DTSTART;TZID=America/Los_Angeles:20250525T120000
DTEND;TZID=America/Los_Angeles:20250525T180000
DTSTAMP:20260425T100226
CREATED:20250421T223717Z
LAST-MODIFIED:20250421T224123Z
UID:3314-1748174400-1748196000@cubanisimovineyards.com
SUMMARY:Memorial Day Weekend...CUBAN STYLE! 2025
DESCRIPTION:Join us for yet another epic year of Memorial Day Weekend…CUBAN STYLE! We will be having live music\, food from Rudy’s Curbside Bistro\, wine\, salsa lessons\, raffles\, and more from 12-6pm all three days!\n! If you aren’t already a member\, sign up here \nMusic Schedule (1-5pm each day): \nSat:   Dina y Los Runeros\nSun: Son De Cuba\nMon: Pachanga\n\nfood will be Rudy’s Curbside Bistro\nthe event is 12-6 No Outside Alcohol or Food.\nTicket Options (Order HERE)\nWine Club Members (+1 guest) and Active/Retired Military – FREE\nAfternoon Package $35 – Entry into event\, TWO drink tickets\, salsa lessons\, entry into raffles\, Cubanisimo Vineyards stemless wine glass\nGeneral Admission $30– Entry into event\, salsa lessons\, one drink ticket\nChildren’s Ticket $5 (15 years of age and younger) – Entry into event \n**Food is available for purchase at event from Rudy’s Curbside Bistro
URL:https://cubanisimovineyards.com/event/memorial-day-weekend-cuban-style-2025/
LOCATION:Cubanisimo Vineyards
CATEGORIES:Special Event
END:VEVENT
BEGIN:VEVENT
DTSTART;TZID=America/Los_Angeles:20250526T120000
DTEND;TZID=America/Los_Angeles:20250526T180000
DTSTAMP:20260425T100226
CREATED:20250421T223856Z
LAST-MODIFIED:20250421T224101Z
UID:3316-1748260800-1748282400@cubanisimovineyards.com
SUMMARY:Memorial Day Weekend...CUBAN STYLE! 2025
DESCRIPTION:Join us for yet another epic year of Memorial Day Weekend…CUBAN STYLE! We will be having live music\, food from Rudy’s Curbside Bistro\, wine\, salsa lessons\, raffles\, and more from 12-6pm all three days!\n! If you aren’t already a member\, sign up here \nMusic Schedule (1-5pm each day): \nSat:   Dina y Los Runeros\nSun: Son De Cuba\nMon: Pachanga\n\nfood will be Rudy’s Curbside Bistro\nthe event is 12-6 No Outside Alcohol or Food.\nTicket Options (Order HERE)\nWine Club Members (+1 guest) and Active/Retired Military – FREE\nAfternoon Package $35 – Entry into event\, TWO drink tickets\, salsa lessons\, entry into raffles\, Cubanisimo Vineyards stemless wine glass\nGeneral Admission $30– Entry into event\, salsa lessons\, one drink ticket\nChildren’s Ticket $5 (15 years of age and younger) – Entry into event \n**Food is available for purchase at event from Rudy’s Curbside Bistro
URL:https://cubanisimovineyards.com/event/memorial-day-weekend-cuban-style-2025-2/
LOCATION:Cubanisimo Vineyards
CATEGORIES:Special Event
END:VEVENT
BEGIN:VEVENT
DTSTART;TZID=America/Denver:20260320T200000
DTEND;TZID=America/Denver:20260320T213000
DTSTAMP:20260425T100226
CREATED:20260305T224545Z
LAST-MODIFIED:20260305T224923Z
UID:3657-1774036800-1774042200@cubanisimovineyards.com
SUMMARY:Comedy Night
DESCRIPTION:Come join us inside for some cheeky entertainment!  Wine\, giggles\, wine\, laughter\, wine\, some awkwardness\, wine\, chortles\, guffaws\, and more wine.  You’re welcome to bring your own food\, grab some friends\, and enjoy the show!  Limited space available. \nTickets available at eventbrite: \n https://www.eventbrite.com/e/the-winery-comedy-tour-at-cubanisimo-vineyards-tickets-1983736812206
URL:https://cubanisimovineyards.com/event/comedy-night-12/
CATEGORIES:Special Event
END:VEVENT
BEGIN:VEVENT
DTSTART;TZID=America/Denver:20260417T200000
DTEND;TZID=America/Denver:20260417T213000
DTSTAMP:20260425T100226
CREATED:20260305T231423Z
LAST-MODIFIED:20260305T232643Z
UID:3663-1776456000-1776461400@cubanisimovineyards.com
SUMMARY:Comedy Night
DESCRIPTION:Bring your friends and come laugh (or chortle\, we won’t judge.  …much.) while enjoying our award winning wines!  You’re welcome to bring food and snacks!  Limited spaces available. \nTickets can be purchased on eventbrite: \nhttps://www.eventbrite.com/e/comedy-night-at-cubanisimo-winery-tickets-1984348975202
URL:https://cubanisimovineyards.com/event/comedy-night-13/
CATEGORIES:Special Event
END:VEVENT
BEGIN:VEVENT
DTSTART;TZID=America/Denver:20260424T180000
DTEND;TZID=America/Denver:20260424T200000
DTSTAMP:20260425T100226
CREATED:20260313T003701Z
LAST-MODIFIED:20260313T004529Z
UID:3686-1777053600-1777060800@cubanisimovineyards.com
SUMMARY:Fourth Friday Paint & Sip!
DESCRIPTION:Serendipities By Dena is coming to Cubanisimo! Join us on the fourth Friday of the month for some colorful fun with Dena Lynn! \nClick the link to sign up! \nPublic Paint-Party:  Cubanissimo Vineyard in West Salem
URL:https://cubanisimovineyards.com/event/fourth-friday-paint-sip/
CATEGORIES:Special Event
END:VEVENT
END:VCALENDAR