BEGIN:VCALENDAR
VERSION:2.0
PRODID:-//Cubanisimo Vineyards - ECPv6.15.20//NONSGML v1.0//EN
CALSCALE:GREGORIAN
METHOD:PUBLISH
X-WR-CALNAME:Cubanisimo Vineyards
X-ORIGINAL-URL:https://cubanisimovineyards.com
X-WR-CALDESC:Events for Cubanisimo Vineyards
REFRESH-INTERVAL;VALUE=DURATION:PT1H
X-Robots-Tag:noindex
X-PUBLISHED-TTL:PT1H
BEGIN:VTIMEZONE
TZID:America/Los_Angeles
BEGIN:DAYLIGHT
TZOFFSETFROM:-0800
TZOFFSETTO:-0700
TZNAME:PDT
DTSTART:20190310T100000
END:DAYLIGHT
BEGIN:STANDARD
TZOFFSETFROM:-0700
TZOFFSETTO:-0800
TZNAME:PST
DTSTART:20191103T090000
END:STANDARD
BEGIN:DAYLIGHT
TZOFFSETFROM:-0800
TZOFFSETTO:-0700
TZNAME:PDT
DTSTART:20200308T100000
END:DAYLIGHT
BEGIN:STANDARD
TZOFFSETFROM:-0700
TZOFFSETTO:-0800
TZNAME:PST
DTSTART:20201101T090000
END:STANDARD
BEGIN:DAYLIGHT
TZOFFSETFROM:-0800
TZOFFSETTO:-0700
TZNAME:PDT
DTSTART:20210314T100000
END:DAYLIGHT
BEGIN:STANDARD
TZOFFSETFROM:-0700
TZOFFSETTO:-0800
TZNAME:PST
DTSTART:20211107T090000
END:STANDARD
END:VTIMEZONE
BEGIN:VEVENT
DTSTART;TZID=America/Los_Angeles:20200505T180000
DTEND;TZID=America/Los_Angeles:20200505T190000
DTSTAMP:20260424T215155
CREATED:20200502T222351Z
LAST-MODIFIED:20200502T222351Z
UID:2021-1588701600-1588705200@cubanisimovineyards.com
SUMMARY:Virtual Happy Hour
DESCRIPTION:Join us again this Tuesday from 6-7pm on Facebook Live for an hour of cooking\, teasers into what is next\, and a farewell from Paige. This weeks meal will be a Spanish Tortilla\, join us in cooking..here is what you will need. \nDebra’s Spanish Tortilla \nIngredients:\nTo start you will need a 12- or 15-inch non-stick pan.  One with curved sides works the best\n½ cup virgin olive oil\n12-14 red potatoes sliced thin\, with skins left on!\n1 medium red onion\, sliced thin\n½ red bell pepper diced ¼ inch or sliced thin (seeds removed)\n½ green bell pepper diced ¼ inch or sliced thin\n¼ teaspoon minced garlic\n½ cup diced cooked ham\, chorizo\, or bacon (if using bacon precook and break into pieces)\n6-7 eggs\n¼ teaspoon pepper\n1 teaspoon salt \nDirections:\nHeat olive oil on medium-low and place thinly sliced potatoes into pan\, separate as much as possible using a fork if needed.  Cook about 10 min or until potatoes are soft.  Try your best not to let them brown.  (It will seem like a lot of oil\, but that’s OK we will be draining it!) \nWhile this is cooking\, whisk together eggs into a large bowl and add salt and pepper. \nAdd sliced onions and bell peppers\, and let cook about another 5 minutes or until softened. \nAdd garlic\, and whatever type of meat you are using.  (you don’t even have to add meat if you prefer not to) \nCook 1 to 2 minutes more just to heat through. \nNow\, pour all of pan mixture into a strainer\, reserving all of the oil that drains. \nOnce drained\, pour all of the mixture into whisked eggs and press down to cover as much as you can.  Let set for 10-15 minutes. \nReturn pan to stove on low to medium heat and add 4 Tablespoons of reserved drained oil.  Do not get your pan to hot or your eggs will burn before it is finished! \nPour in egg mixture and spread out evenly. \nJiggle your pan now and then\, and using a soft spatula run it around the pan to make sure it is not sticking. \nWhen you notice the eggs pulling away from edge of pan and you peek a little bit by lifting your mixture\, you will see slight browning\, this will take about 5 minutes…….Here comes the tricky part if you are not using a true tortilla pan! \nUsing a dinner plate (or anything that will cover your entire tortilla) place it on top\, and while holding your had in the middle of the plate\, flip your tortilla over so that it falls onto the plate (you may want to do this over your sink) now\, add some more of your reserved oil to the pan and then slide the tortilla back into the pan to cook the other side. \nThis will not take as long\, so don’t leave your stove!  Once you peek again and notice slight browning\, it’s time to do the flip again onto your serving plate! \nCut tortilla into eight triangles and serve.   You may garnish with chives\, or even toss a little feta cheese if you want. \nEnjoy!! \n  \n  \n  \n 
URL:https://cubanisimovineyards.com/event/virtual-happy-hour/
CATEGORIES:Special Event
END:VEVENT
END:VCALENDAR