BEGIN:VCALENDAR
VERSION:2.0
PRODID:-//Cubanisimo Vineyards - ECPv6.15.20//NONSGML v1.0//EN
CALSCALE:GREGORIAN
METHOD:PUBLISH
X-WR-CALNAME:Cubanisimo Vineyards
X-ORIGINAL-URL:https://cubanisimovineyards.com
X-WR-CALDESC:Events for Cubanisimo Vineyards
REFRESH-INTERVAL;VALUE=DURATION:PT1H
X-Robots-Tag:noindex
X-PUBLISHED-TTL:PT1H
BEGIN:VTIMEZONE
TZID:America/Los_Angeles
BEGIN:DAYLIGHT
TZOFFSETFROM:-0800
TZOFFSETTO:-0700
TZNAME:PDT
DTSTART:20180311T100000
END:DAYLIGHT
BEGIN:STANDARD
TZOFFSETFROM:-0700
TZOFFSETTO:-0800
TZNAME:PST
DTSTART:20181104T090000
END:STANDARD
BEGIN:DAYLIGHT
TZOFFSETFROM:-0800
TZOFFSETTO:-0700
TZNAME:PDT
DTSTART:20190310T100000
END:DAYLIGHT
BEGIN:STANDARD
TZOFFSETFROM:-0700
TZOFFSETTO:-0800
TZNAME:PST
DTSTART:20191103T090000
END:STANDARD
BEGIN:DAYLIGHT
TZOFFSETFROM:-0800
TZOFFSETTO:-0700
TZNAME:PDT
DTSTART:20200308T100000
END:DAYLIGHT
BEGIN:STANDARD
TZOFFSETFROM:-0700
TZOFFSETTO:-0800
TZNAME:PST
DTSTART:20201101T090000
END:STANDARD
END:VTIMEZONE
BEGIN:VEVENT
DTSTART;TZID=America/Los_Angeles:20190927T190000
DTEND;TZID=America/Los_Angeles:20190927T210000
DTSTAMP:20260425T083520
CREATED:20190410T214316Z
LAST-MODIFIED:20190924T183916Z
UID:1534-1569610800-1569618000@cubanisimovineyards.com
SUMMARY:Movie Night - How to Train Your Dragon 2
DESCRIPTION:Join us for free family fun in the vineyard! We will be showing “How to Train Your Dragon 2” on our patio with food\, wine\, soda\, popcorn and candy available for purchase. Feel free to bring blankets to keep you nice and cozy!\n**please note that the movie will begin at sunset\n \nPlease RSVP here \nFREE of charge\nKids welcome\nNO PETS PLEASE
URL:https://cubanisimovineyards.com/event/movie-night-how-to-train-your-dragon-2/
CATEGORIES:Special Event
END:VEVENT
END:VCALENDAR