BEGIN:VCALENDAR
VERSION:2.0
PRODID:-//Cubanisimo Vineyards - ECPv6.15.20//NONSGML v1.0//EN
CALSCALE:GREGORIAN
METHOD:PUBLISH
X-ORIGINAL-URL:https://cubanisimovineyards.com
X-WR-CALDESC:Events for Cubanisimo Vineyards
REFRESH-INTERVAL;VALUE=DURATION:PT1H
X-Robots-Tag:noindex
X-PUBLISHED-TTL:PT1H
BEGIN:VTIMEZONE
TZID:America/Los_Angeles
BEGIN:DAYLIGHT
TZOFFSETFROM:-0800
TZOFFSETTO:-0700
TZNAME:PDT
DTSTART:20170312T100000
END:DAYLIGHT
BEGIN:STANDARD
TZOFFSETFROM:-0700
TZOFFSETTO:-0800
TZNAME:PST
DTSTART:20171105T090000
END:STANDARD
BEGIN:DAYLIGHT
TZOFFSETFROM:-0800
TZOFFSETTO:-0700
TZNAME:PDT
DTSTART:20180311T100000
END:DAYLIGHT
BEGIN:STANDARD
TZOFFSETFROM:-0700
TZOFFSETTO:-0800
TZNAME:PST
DTSTART:20181104T090000
END:STANDARD
BEGIN:DAYLIGHT
TZOFFSETFROM:-0800
TZOFFSETTO:-0700
TZNAME:PDT
DTSTART:20190310T100000
END:DAYLIGHT
BEGIN:STANDARD
TZOFFSETFROM:-0700
TZOFFSETTO:-0800
TZNAME:PST
DTSTART:20191103T090000
END:STANDARD
END:VTIMEZONE
BEGIN:VEVENT
DTSTART;TZID=America/Los_Angeles:20181208T180000
DTEND;TZID=America/Los_Angeles:20181208T220000
DTSTAMP:20260425T135650
CREATED:20181004T213025Z
LAST-MODIFIED:20181004T214059Z
UID:1329-1544292000-1544306400@cubanisimovineyards.com
SUMMARY:Wine Club Only Holiday Party
DESCRIPTION:Tis’ the season! Join us for an exclusive Wine Club ONLY Holiday Party at Cubanisimo Vineyards! December 8\, 2018 from 6-10PM. Event will be held at the Collada Estate on property. Tickets includes wine\, appetizers\, and a special performance by The Willamette Master Chorus. \nWine Club Members: $15\nWine Club Guests: $25\nPurchase tickets here\n\n*RESERVATION REQUIRED\n*Semi-Formal attire suggested
URL:https://cubanisimovineyards.com/event/wine-club-only-holiday-party/
CATEGORIES:Special Event
END:VEVENT
END:VCALENDAR