BEGIN:VCALENDAR
VERSION:2.0
PRODID:-//Cubanisimo Vineyards - ECPv6.15.20//NONSGML v1.0//EN
CALSCALE:GREGORIAN
METHOD:PUBLISH
X-WR-CALNAME:Cubanisimo Vineyards
X-ORIGINAL-URL:https://cubanisimovineyards.com
X-WR-CALDESC:Events for Cubanisimo Vineyards
REFRESH-INTERVAL;VALUE=DURATION:PT1H
X-Robots-Tag:noindex
X-PUBLISHED-TTL:PT1H
BEGIN:VTIMEZONE
TZID:America/Los_Angeles
BEGIN:DAYLIGHT
TZOFFSETFROM:-0800
TZOFFSETTO:-0700
TZNAME:PDT
DTSTART:20180311T100000
END:DAYLIGHT
BEGIN:STANDARD
TZOFFSETFROM:-0700
TZOFFSETTO:-0800
TZNAME:PST
DTSTART:20181104T090000
END:STANDARD
BEGIN:DAYLIGHT
TZOFFSETFROM:-0800
TZOFFSETTO:-0700
TZNAME:PDT
DTSTART:20190310T100000
END:DAYLIGHT
BEGIN:STANDARD
TZOFFSETFROM:-0700
TZOFFSETTO:-0800
TZNAME:PST
DTSTART:20191103T090000
END:STANDARD
BEGIN:DAYLIGHT
TZOFFSETFROM:-0800
TZOFFSETTO:-0700
TZNAME:PDT
DTSTART:20200308T100000
END:DAYLIGHT
BEGIN:STANDARD
TZOFFSETFROM:-0700
TZOFFSETTO:-0800
TZNAME:PST
DTSTART:20201101T090000
END:STANDARD
END:VTIMEZONE
BEGIN:VEVENT
DTSTART;TZID=America/Los_Angeles:20190810T180000
DTEND;TZID=America/Los_Angeles:20190810T200000
DTSTAMP:20260424T070352
CREATED:20190417T225821Z
LAST-MODIFIED:20190417T225821Z
UID:1571-1565460000-1565467200@cubanisimovineyards.com
SUMMARY:Salsa Lesson Series
DESCRIPTION:The Salsa Lesson Series is a 3 month\, 3 lesson series. You will get an hour lesson in June\, July\, August. This also includes food and wine. The event is 6-8PM\, with food and wine being from 6-7pm and the lesson 7-8pm.\n**Please sign up with a dance partner\n**There is only room for 30 people (15 dance partners)\n**No physical tickets will be sent to you. We will have your name on our list. \nDates of your lessons:\nJune 29\, July 13\, August 10 \nGet tickets here
URL:https://cubanisimovineyards.com/event/salsa-lesson-series-3/
CATEGORIES:Special Event
END:VEVENT
BEGIN:VEVENT
DTSTART;TZID=America/Los_Angeles:20190816T200000
DTEND;TZID=America/Los_Angeles:20190816T220000
DTSTAMP:20260424T070352
CREATED:20190129T191206Z
LAST-MODIFIED:20190129T191206Z
UID:1491-1565985600-1565992800@cubanisimovineyards.com
SUMMARY:Comedy Tour
DESCRIPTION:Nationally recognized comedians travel the country tasting local wine and making new fans in this new comedy circuit that brings quality comedy to folks for a fraction of what antiquated comedy clubs demand. Come out for a night of hilarious comedy and great local wines. This comedy tour takes top comedians who you’ve seen on TV and sends them out on the road to perform at wineries throughout the country. Find out which local wines pair best with hysterical laughter when The Winery Comedy Tour comes to your town. \nView more information and get tickets here
URL:https://cubanisimovineyards.com/event/comedy-tour-3/
CATEGORIES:Special Event
END:VEVENT
BEGIN:VEVENT
DTSTART;TZID=America/Los_Angeles:20190831T120000
DTEND;TZID=America/Los_Angeles:20190902T180000
DTSTAMP:20260424T070352
CREATED:20190729T211212Z
LAST-MODIFIED:20190815T231205Z
UID:1657-1567252800-1567447200@cubanisimovineyards.com
SUMMARY:Labor Day Cuban Style
DESCRIPTION:Join us for 3 days of festivities\, food\, salsa lessons\, live music\, and of course wine! \nMusic Schedule:\nSaturday – Dina y Los Rumberos\nSunday – Son De Cuba\nMonday – Pura Vida \nSalsa Lessons – Orlando Pachecho\nFood – Firepit Wandering Kitchen & Nanay’s Ba-Hi \nTicket Options:\n**Wine Club Members (+1 guest) and Active/Retired Military – Free General Admission \nAfternoon Package $30 – Includes entry\, 2 drink tickets\, a Cubanisimo wine glass\, 2 salsa lessons during event\, entry into raffle!\nGeneral Admission $20 – Includes entry\, 1 drink ticket\, 2 salsa lessons during event\nDesignated Driver $10 (Includes anyone 16 and over that are not drinking) $10 – Includes entry and 2 salsa lessons during event\nChildren 15 & Younger $5 – Includes entry and 2 salsa lessons during event\nWine Club Upgrade to Afternoon Package $5 – Wine Club Members can upgrade to Afternoon Package for only $5 \nImportant Notes:\n– No ticket will be mailed to you\, upon arrival you will check in to get a wristband and your name will be on a list\n– Tickets are good for any day. If you purchase 1 ticket\, you can choose to come Saturday\, Sunday or Monday\n– 1 ticket is good for 1 day (if you want to attend all weekend\, you would need 3 tickets)\n– Groupons will NOT be accepted \nPURCHASE TICKETS HERE
URL:https://cubanisimovineyards.com/event/labor-day-cuban-style/
CATEGORIES:Special Event
END:VEVENT
END:VCALENDAR