BEGIN:VCALENDAR
VERSION:2.0
PRODID:-//Cubanisimo Vineyards - ECPv6.15.20//NONSGML v1.0//EN
CALSCALE:GREGORIAN
METHOD:PUBLISH
X-WR-CALNAME:Cubanisimo Vineyards
X-ORIGINAL-URL:https://cubanisimovineyards.com
X-WR-CALDESC:Events for Cubanisimo Vineyards
REFRESH-INTERVAL;VALUE=DURATION:PT1H
X-Robots-Tag:noindex
X-PUBLISHED-TTL:PT1H
BEGIN:VTIMEZONE
TZID:America/Los_Angeles
BEGIN:DAYLIGHT
TZOFFSETFROM:-0800
TZOFFSETTO:-0700
TZNAME:PDT
DTSTART:20180311T100000
END:DAYLIGHT
BEGIN:STANDARD
TZOFFSETFROM:-0700
TZOFFSETTO:-0800
TZNAME:PST
DTSTART:20181104T090000
END:STANDARD
BEGIN:DAYLIGHT
TZOFFSETFROM:-0800
TZOFFSETTO:-0700
TZNAME:PDT
DTSTART:20190310T100000
END:DAYLIGHT
BEGIN:STANDARD
TZOFFSETFROM:-0700
TZOFFSETTO:-0800
TZNAME:PST
DTSTART:20191103T090000
END:STANDARD
BEGIN:DAYLIGHT
TZOFFSETFROM:-0800
TZOFFSETTO:-0700
TZNAME:PDT
DTSTART:20200308T100000
END:DAYLIGHT
BEGIN:STANDARD
TZOFFSETFROM:-0700
TZOFFSETTO:-0800
TZNAME:PST
DTSTART:20201101T090000
END:STANDARD
END:VTIMEZONE
BEGIN:VEVENT
DTSTART;TZID=America/Los_Angeles:20190704T190000
DTEND;TZID=America/Los_Angeles:20190704T220000
DTSTAMP:20260425T073939
CREATED:20190416T000215Z
LAST-MODIFIED:20190703T210938Z
UID:1536-1562266800-1562277600@cubanisimovineyards.com
SUMMARY:Curley Taylor Concert
DESCRIPTION:HE IS BACK! Join us on The Fourth of July for the one and only Curley Taylor. \nTickets are $15 for General Admission\, $5 for Wine Club Member\, $5 for (1) Wine Club Member guest\, $5 for children under 12. Purchase tickets here.\n*Food and wine will be available for purchase
URL:https://cubanisimovineyards.com/event/curley-taylor-concert/
CATEGORIES:Special Event
END:VEVENT
BEGIN:VEVENT
DTSTART;TZID=America/Los_Angeles:20190712T180000
DTEND;TZID=America/Los_Angeles:20190712T210000
DTSTAMP:20260425T073939
CREATED:20190605T194510Z
LAST-MODIFIED:20190605T194510Z
UID:1626-1562954400-1562965200@cubanisimovineyards.com
SUMMARY:Ladies Night in the Vineyard
DESCRIPTION:Join us for a night with the ladies as we enjoy wine\, small bites\, and shopping around at over 15 vendor tables! \nTickets are available on our website here\n$15 for non-wine club members\n$10 for wine club members
URL:https://cubanisimovineyards.com/event/ladies-night-in-the-vineyard/
CATEGORIES:Special Event
END:VEVENT
BEGIN:VEVENT
DTSTART;TZID=America/Los_Angeles:20190713T180000
DTEND;TZID=America/Los_Angeles:20190713T200000
DTSTAMP:20260425T073939
CREATED:20190417T225737Z
LAST-MODIFIED:20190417T225737Z
UID:1569-1563040800-1563048000@cubanisimovineyards.com
SUMMARY:Salsa Lesson Series
DESCRIPTION:The Salsa Lesson Series is a 3 month\, 3 lesson series. You will get an hour lesson in June\, July\, August. This also includes food and wine. The event is 6-8PM\, with food and wine being from 6-7pm and the lesson 7-8pm.\n**Please sign up with a dance partner\n**There is only room for 30 people (15 dance partners)\n**No physical tickets will be sent to you. We will have your name on our list. \nDates of your lessons:\nJune 29\, July 13\, August 10 \nGet tickets here
URL:https://cubanisimovineyards.com/event/salsa-lesson-series-2/
CATEGORIES:Special Event
END:VEVENT
BEGIN:VEVENT
DTSTART;TZID=America/Los_Angeles:20190726T200000
DTEND;TZID=America/Los_Angeles:20190726T220000
DTSTAMP:20260425T073939
CREATED:20190417T214630Z
LAST-MODIFIED:20190417T214630Z
UID:1559-1564171200-1564178400@cubanisimovineyards.com
SUMMARY:Comedy Tour
DESCRIPTION:Nationally recognized comedians travel the country tasting local wine and making new fans in this new comedy circuit that brings quality comedy to folks for a fraction of what antiquated comedy clubs demand. Come out for a night of hilarious comedy and great local wines. This comedy tour takes top comedians who you’ve seen on TV and sends them out on the road to perform at wineries throughout the country. Find out which local wines pair best with hysterical laughter when The Winery Comedy Tour comes to your town. \nView more information and get tickets here
URL:https://cubanisimovineyards.com/event/comedy-tour-6/
CATEGORIES:Special Event
END:VEVENT
END:VCALENDAR