BEGIN:VCALENDAR
VERSION:2.0
PRODID:-//Cubanisimo Vineyards - ECPv6.15.20//NONSGML v1.0//EN
CALSCALE:GREGORIAN
METHOD:PUBLISH
X-ORIGINAL-URL:https://cubanisimovineyards.com
X-WR-CALDESC:Events for Cubanisimo Vineyards
REFRESH-INTERVAL;VALUE=DURATION:PT1H
X-Robots-Tag:noindex
X-PUBLISHED-TTL:PT1H
BEGIN:VTIMEZONE
TZID:America/Los_Angeles
BEGIN:DAYLIGHT
TZOFFSETFROM:-0800
TZOFFSETTO:-0700
TZNAME:PDT
DTSTART:20180311T100000
END:DAYLIGHT
BEGIN:STANDARD
TZOFFSETFROM:-0700
TZOFFSETTO:-0800
TZNAME:PST
DTSTART:20181104T090000
END:STANDARD
BEGIN:DAYLIGHT
TZOFFSETFROM:-0800
TZOFFSETTO:-0700
TZNAME:PDT
DTSTART:20190310T100000
END:DAYLIGHT
BEGIN:STANDARD
TZOFFSETFROM:-0700
TZOFFSETTO:-0800
TZNAME:PST
DTSTART:20191103T090000
END:STANDARD
BEGIN:DAYLIGHT
TZOFFSETFROM:-0800
TZOFFSETTO:-0700
TZNAME:PDT
DTSTART:20200308T100000
END:DAYLIGHT
BEGIN:STANDARD
TZOFFSETFROM:-0700
TZOFFSETTO:-0800
TZNAME:PST
DTSTART:20201101T090000
END:STANDARD
END:VTIMEZONE
BEGIN:VEVENT
DTSTART;TZID=America/Los_Angeles:20190615T203000
DTEND;TZID=America/Los_Angeles:20190615T223000
DTSTAMP:20260424T072724
CREATED:20190409T190804Z
LAST-MODIFIED:20190409T190910Z
UID:1527-1560630600-1560637800@cubanisimovineyards.com
SUMMARY:Movie Night - The Incredibles
DESCRIPTION:Join us for free family fun in the vineyard! We will be showing “The Incredibles” on our patio with food\, wine\, soda\, popcorn and candy available for purchase. Feel free to bring blankets to keep you nice and cozy!\n**please note that the movie will begin at sunset\n \nPlease RSVP here \nFREE of charge\nKids welcome\nNO PETS PLEASE \n 
URL:https://cubanisimovineyards.com/event/movie-night-the-incredibles/
CATEGORIES:Special Event
END:VEVENT
BEGIN:VEVENT
DTSTART;TZID=America/Los_Angeles:20190616T110000
DTEND;TZID=America/Los_Angeles:20190616T170000
DTSTAMP:20260424T072724
CREATED:20190128T230046Z
LAST-MODIFIED:20190128T230046Z
UID:1464-1560682800-1560704400@cubanisimovineyards.com
SUMMARY:Free Tastings for Dad!
DESCRIPTION:Happy Father’s Day Dads! Today is on us\, enjoy a free tasting from 11-5pm!
URL:https://cubanisimovineyards.com/event/free-tastings-for-dad/
CATEGORIES:Special Event
END:VEVENT
BEGIN:VEVENT
DTSTART;TZID=America/Los_Angeles:20190620T180000
DTEND;TZID=America/Los_Angeles:20190620T200000
DTSTAMP:20260424T072724
CREATED:20190429T223245Z
LAST-MODIFIED:20190429T223245Z
UID:1592-1561053600-1561060800@cubanisimovineyards.com
SUMMARY:Cuba to The USA - Mauricio's Journey
DESCRIPTION:Join us for a fascinating night of our owner\, Mauricio Collada\, sharing his story of the journey from Cuba to The United States of America. Please RSVP here \n*food and wine will be available for purchase\n*no pets allowed
URL:https://cubanisimovineyards.com/event/cuba-to-the-usa-mauricios-journey/
CATEGORIES:Special Event
END:VEVENT
BEGIN:VEVENT
DTSTART;TZID=America/Los_Angeles:20190628T200000
DTEND;TZID=America/Los_Angeles:20190628T220000
DTSTAMP:20260424T072724
CREATED:20190417T214550Z
LAST-MODIFIED:20190417T214550Z
UID:1557-1561752000-1561759200@cubanisimovineyards.com
SUMMARY:Comedy Tour
DESCRIPTION:Nationally recognized comedians travel the country tasting local wine and making new fans in this new comedy circuit that brings quality comedy to folks for a fraction of what antiquated comedy clubs demand. Come out for a night of hilarious comedy and great local wines. This comedy tour takes top comedians who you’ve seen on TV and sends them out on the road to perform at wineries throughout the country. Find out which local wines pair best with hysterical laughter when The Winery Comedy Tour comes to your town. \nView more information and get tickets here
URL:https://cubanisimovineyards.com/event/comedy-tour-5/
CATEGORIES:Special Event
END:VEVENT
BEGIN:VEVENT
DTSTART;TZID=America/Los_Angeles:20190629T180000
DTEND;TZID=America/Los_Angeles:20190629T200000
DTSTAMP:20260424T072724
CREATED:20190417T225432Z
LAST-MODIFIED:20190417T225904Z
UID:1565-1561831200-1561838400@cubanisimovineyards.com
SUMMARY:Salsa Lesson Series
DESCRIPTION:The Salsa Lesson Series is a 3 month\, 3 lesson series. You will get an hour lesson in June\, July\, August. This also includes food and wine. The event is 6-8PM\, with food and wine being from 6-7pm and the lesson 7-8pm.\n**Please sign up with a dance partner\n**There is only room for 30 people (15 dance partners)\n**No physical tickets will be sent to you. We will have your name on our list. \nDates of your lessons:\nJune 29\, July 13\, August 10 \nGet tickets here \n 
URL:https://cubanisimovineyards.com/event/salsa-lesson-series/
CATEGORIES:Special Event
END:VEVENT
END:VCALENDAR