BEGIN:VCALENDAR
VERSION:2.0
PRODID:-//Cubanisimo Vineyards - ECPv6.15.20//NONSGML v1.0//EN
CALSCALE:GREGORIAN
METHOD:PUBLISH
X-ORIGINAL-URL:https://cubanisimovineyards.com
X-WR-CALDESC:Events for Cubanisimo Vineyards
REFRESH-INTERVAL;VALUE=DURATION:PT1H
X-Robots-Tag:noindex
X-PUBLISHED-TTL:PT1H
BEGIN:VTIMEZONE
TZID:America/Los_Angeles
BEGIN:DAYLIGHT
TZOFFSETFROM:-0800
TZOFFSETTO:-0700
TZNAME:PDT
DTSTART:20220313T100000
END:DAYLIGHT
BEGIN:STANDARD
TZOFFSETFROM:-0700
TZOFFSETTO:-0800
TZNAME:PST
DTSTART:20221106T090000
END:STANDARD
BEGIN:DAYLIGHT
TZOFFSETFROM:-0800
TZOFFSETTO:-0700
TZNAME:PDT
DTSTART:20230312T100000
END:DAYLIGHT
BEGIN:STANDARD
TZOFFSETFROM:-0700
TZOFFSETTO:-0800
TZNAME:PST
DTSTART:20231105T090000
END:STANDARD
BEGIN:DAYLIGHT
TZOFFSETFROM:-0800
TZOFFSETTO:-0700
TZNAME:PDT
DTSTART:20240310T100000
END:DAYLIGHT
BEGIN:STANDARD
TZOFFSETFROM:-0700
TZOFFSETTO:-0800
TZNAME:PST
DTSTART:20241103T090000
END:STANDARD
END:VTIMEZONE
BEGIN:VEVENT
DTSTART;TZID=America/Los_Angeles:20230915T170000
DTEND;TZID=America/Los_Angeles:20230915T190000
DTSTAMP:20260421T232156
CREATED:20230904T203611Z
LAST-MODIFIED:20230905T233123Z
UID:2987-1694797200-1694804400@cubanisimovineyards.com
SUMMARY:DRTR Live Music 5:30-7:30 pm
DESCRIPTION:Free Friday night live music at the Vineyard! \nDRTR from 5:30-7:30!
URL:https://cubanisimovineyards.com/event/drtr-5-7-pm/
END:VEVENT
END:VCALENDAR